Workbook

Sheet caodang
A1: BỘ LAO ĐỘNG THƯƠNG BINH VÀ XÃ HỘI | J1: CỘNG HÒA XÃ HỘI CHỦ NGHĨA ViỆT NAM
A2: TRƯỜNG ĐẠI HỌC LAO ĐỘNG - XÃ HỘI (CSII) | J2: Độc lập - Tự do - Hạnh phúc
A4: KẾT QUẢ HỌC TẬP CỦA SINH VIÊN TRƯỜNG CAO ĐẲNG KỸ THUẬT LÝ TỰ TRỌNG
A5: HỌC PHẦN GDQP-AN Thời gian học từ ngày: 22/6/2015 Đến 18/7/2015
A6: (Kèm theo quyết định số: 427/QĐ-ĐHLĐXH-ĐT ngày 03 tháng 11 năm 2015 của Giám đốc)
A8: STT | B8: MSV | C8: HỌ VÀ | D8: TÊN | E8: LỚP | F8: NĂM SINH | G8: Nơi sinh | H8: HP I | J8: TBHP | K8: HP II | M8: TBHP | N8: HP III | P8: TBHP | Q8: TBM | R8: Xếp loại | S8: Kết quả | T8: GHI CHÚ
H9: 0.4 | I9: 0.6 | K9: 0.4 | L9: 0.6 | N9: 0.4 | O9: 0.6
J10: 3 | M10: 2 | P10: 3
A11: 1 | B11: 13D301Đ001 | C11: Lương Hoàng Thuận | D11: An | E11: 13CĐ-Đ1 | F11: 07/11/1994 | G11: Tp. Hồ Chí Minh | H11: 8 | I11: 5 | J11: =ROUND(SUMPRODUCT($H$9:$I$9,H11:I11),1) -> 6.2 | K11: 7 | L11: 5.5 | M11: =ROUND(SUMPRODUCT($K$9:$L$9,K11:L11),1) -> 6.1 | N11: 8 | O11: 8 | P11: =ROUND(SUMPRODUCT($N$9:$O$9,N11:O11),1) -> 8 | Q11: =TRUNC(SUMPRODUCT(H11:P11,$H$10:$P$10)/SUM($H$10:$P$10),1) -> 6.8 | R11: =VLOOKUP(Q11,Sheet1!$A$1:$B$10,2,1) -> Trung bình | S11: =IF(AND(MIN(J11,M11,P11)>=4,Q11>=5),"Đạt","Không Đạt") -> Đạt
A12: 2 | B12: 13D301Đ004 | C12: Đặng Thế | D12: Anh | E12: 13CĐ-Đ1 | F12: 07/12/1995 | G12: Hà Tĩnh | H12: 8 | I12: 8 | J12: =ROUND(SUMPRODUCT($H$9:$I$9,H12:I12),1) -> 8 | K12: 7 | L12: 6 | M12: =ROUND(SUMPRODUCT($K$9:$L$9,K12:L12),1) -> 6.4 | N12: 7 | O12: 8 | P12: =ROUND(SUMPRODUCT($N$9:$O$9,N12:O12),1) -> 7.6 | Q12: =TRUNC(SUMPRODUCT(H12:P12,$H$10:$P$10)/SUM($H$10:$P$10),1) -> 7.4 | R12: =VLOOKUP(Q12,Sheet1!$A$1:$B$10,2,1) -> Khá | S12: =IF(AND(MIN(J12,M12,P12)>=4,Q12>=5),"Đạt","Không Đạt") -> Đạt
A13: 3 | B13: 13D301Đ149 | C13: Đỗ Huỳnh | D13: Bảo | E13: 13CĐ-Đ1 | F13: 20/7/1995 | G13: Bình Thuận | H13: 8 | I13: 7.5 | J13: =ROUND(SUMPRODUCT($H$9:$I$9,H13:I13),1) -> 7.7 | K13: 7 | L13: 5 | M13: =ROUND(SUMPRODUCT($K$9:$L$9,K13:L13),1) -> 5.8 | N13: 8 | O13: 9 | P13: =ROUND(SUMPRODUCT($N$9:$O$9,N13:O13),1) -> 8.6 | Q13: =TRUNC(SUMPRODUCT(H13:P13,$H$10:$P$10)/SUM($H$10:$P$10),1) -> 7.5 | R13: =VLOOKUP(Q13,Sheet1!$A$1:$B$10,2,1) -> Khá | S13: =IF(AND(MIN(J13,M13,P13)>=4,Q13>=5),"Đạt","Không Đạt") -> Đạt
A14: 4 | B14: 13D301Đ008 | C14: Trương Vũ | D14: Bảo | E14: 13CĐ-Đ1 | F14: 03/11/1994 | G14: Quảng Ngãi | H14: 9 | I14: 9.5 | J14: =ROUND(SUMPRODUCT($H$9:$I$9,H14:I14),1) -> 9.3 | K14: 8 | L14: 8.5 | M14: =ROUND(SUMPRODUCT($K$9:$L$9,K14:L14),1) -> 8.3 | N14: 9 | O14: 8 | P14: =ROUND(SUMPRODUCT($N$9:$O$9,N14:O14),1) -> 8.4 | Q14: =TRUNC(SUMPRODUCT(H14:P14,$H$10:$P$10)/SUM($H$10:$P$10),1) -> 8.7 | R14: =VLOOKUP(Q14,Sheet1!$A$1:$B$10,2,1) -> Giỏi | S14: =IF(AND(MIN(J14,M14,P14)>=4,Q14>=5),"Đạt","Không Đạt") -> Đạt
A15: 5 | B15: 13D301Đ009 | C15: Võ Thành | D15: Bảo | E15: 13CĐ-Đ1 | F15: 26/3/1995 | G15: Quảng Ngãi | H15: 6 | I15: 5 | J15: =ROUND(SUMPRODUCT($H$9:$I$9,H15:I15),1) -> 5.4 | K15: 7 | L15: 5.5 | M15: =ROUND(SUMPRODUCT($K$9:$L$9,K15:L15),1) -> 6.1 | N15: 8 | O15: 7 | P15: =ROUND(SUMPRODUCT($N$9:$O$9,N15:O15),1) -> 7.4 | Q15: =TRUNC(SUMPRODUCT(H15:P15,$H$10:$P$10)/SUM($H$10:$P$10),1) -> 6.3 | R15: =VLOOKUP(Q15,Sheet1!$A$1:$B$10,2,1) -> Trung bình | S15: =IF(AND(MIN(J15,M15,P15)>=4,Q15>=5),"Đạt","Không Đạt") -> Đạt
A16: 6 | B16: 13D301Đ013 | C16: Nguyễn Chí | D16: Bình | E16: 13CĐ-Đ1 | F16: 15/9/1995 | G16: Bến Tre | H16: 5 | I16: 5.5 | J16: =ROUND(SUMPRODUCT($H$9:$I$9,H16:I16),1) -> 5.3 | K16: 7 | L16: 5 | M16: =ROUND(SUMPRODUCT($K$9:$L$9,K16:L16),1) -> 5.8 | N16: 7 | O16: 5 | P16: =ROUND(SUMPRODUCT($N$9:$O$9,N16:O16),1) -> 5.8 | Q16: =TRUNC(SUMPRODUCT(H16:P16,$H$10:$P$10)/SUM($H$10:$P$10),1) -> 5.6 | R16: =VLOOKUP(Q16,Sheet1!$A$1:$B$10,2,1) -> Trung bình | S16: =IF(AND(MIN(J16,M16,P16)>=4,Q16>=5),"Đạt","Không Đạt") -> Đạt
A17: 7 | B17: 13D301Đ016 | C17: Vũ Văn | D17: Chiến | E17: 13CĐ-Đ1 | F17: 17/3/1995 | G17: Kiên Giang | H17: 4 | I17: 8 | J17: =ROUND(SUMPRODUCT($H$9:$I$9,H17:I17),1) -> 6.4 | K17: 7 | L17: 6 | M17: =ROUND(SUMPRODUCT($K$9:$L$9,K17:L17),1) -> 6.4 | N17: 8 | O17: 8 | P17: =ROUND(SUMPRODUCT($N$9:$O$9,N17:O17),1) -> 8 | Q17: =TRUNC(SUMPRODUCT(H17:P17,$H$10:$P$10)/SUM($H$10:$P$10),1) -> 7 | R17: =VLOOKUP(Q17,Sheet1!$A$1:$B$10,2,1) -> Khá | S17: =IF(AND(MIN(J17,M17,P17)>=4,Q17>=5),"Đạt","Không Đạt") -> Đạt
A18: 8 | B18: 13D301Đ017 | C18: Trần Văn | D18: Chinh | E18: 13CĐ-Đ1 | F18: 06/10/1995 | G18: Bến Tre | H18: 8 | I18: 8 | J18: =ROUND(SUMPRODUCT($H$9:$I$9,H18:I18),1) -> 8 | K18: 5 | L18: 7 | M18: =ROUND(SUMPRODUCT($K$9:$L$9,K18:L18),1) -> 6.2 | N18: 8 | O18: 5 | P18: =ROUND(SUMPRODUCT($N$9:$O$9,N18:O18),1) -> 6.2 | Q18: =TRUNC(SUMPRODUCT(H18:P18,$H$10:$P$10)/SUM($H$10:$P$10),1) -> 6.8 | R18: =VLOOKUP(Q18,Sheet1!$A$1:$B$10,2,1) -> Trung bình | S18: =IF(AND(MIN(J18,M18,P18)>=4,Q18>=5),"Đạt","Không Đạt") -> Đạt
A19: 9 | B19: 13D301Đ020 | C19: Trịnh Lê | D19: Cung | E19: 13CĐ-Đ1 | F19: 20/8/1995 | G19: Bình Định | H19: 8 | I19: 5.5 | J19: =ROUND(SUMPRODUCT($H$9:$I$9,H19:I19),1) -> 6.5 | K19: 5 | L19: 6.5 | M19: =ROUND(SUMPRODUCT($K$9:$L$9,K19:L19),1) -> 5.9 | N19: 8 | O19: 5 | P19: =ROUND(SUMPRODUCT($N$9:$O$9,N19:O19),1) -> 6.2 | Q19: =TRUNC(SUMPRODUCT(H19:P19,$H$10:$P$10)/SUM($H$10:$P$10),1) -> 6.2 | R19: =VLOOKUP(Q19,Sheet1!$A$1:$B$10,2,1) -> Trung bình | S19: =IF(AND(MIN(J19,M19,P19)>=4,Q19>=5),"Đạt","Không Đạt") -> Đạt
A20: 10 | B20: 13D301Đ021 | C20: Nguyễn Chí | D20: Cường | E20: 13CĐ-Đ1 | F20: 20/02/1995 | G20: Bình Định | H20: 8 | I20: 7.5 | J20: =ROUND(SUMPRODUCT($H$9:$I$9,H20:I20),1) -> 7.7 | K20: 7 | L20: 6.5 | M20: =ROUND(SUMPRODUCT($K$9:$L$9,K20:L20),1) -> 6.7 | N20: 8 | O20: 5 | P20: =ROUND(SUMPRODUCT($N$9:$O$9,N20:O20),1) -> 6.2 | Q20: =TRUNC(SUMPRODUCT(H20:P20,$H$10:$P$10)/SUM($H$10:$P$10),1) -> 6.8 | R20: =VLOOKUP(Q20,Sheet1!$A$1:$B$10,2,1) -> Trung bình | S20: =IF(AND(MIN(J20,M20,P20)>=4,Q20>=5),"Đạt","Không Đạt") -> Đạt
A21: 11 | B21: 13D301Đ033 | C21: Trương Văn | D21: Đạt | E21: 13CĐ-Đ1 | F21: 10/02/1994 | G21: Bình Thuận | H21: 8 | I21: 7.5 | J21: =ROUND(SUMPRODUCT($H$9:$I$9,H21:I21),1) -> 7.7 | K21: 5 | L21: 6.5 | M21: =ROUND(SUMPRODUCT($K$9:$L$9,K21:L21),1) -> 5.9 | N21: 8 | O21: 8 | P21: =ROUND(SUMPRODUCT($N$9:$O$9,N21:O21),1) -> 8 | Q21: =TRUNC(SUMPRODUCT(H21:P21,$H$10:$P$10)/SUM($H$10:$P$10),1) -> 7.3 | R21: =VLOOKUP(Q21,Sheet1!$A$1:$B$10,2,1) -> Khá | S21: =IF(AND(MIN(J21,M21,P21)>=4,Q21>=5),"Đạt","Không Đạt") -> Đạt
A22: 12 | B22: 13D301Đ037 | C22: Nguyễn Thành | D22: Đông | E22: 13CĐ-Đ1 | F22: 28/02/1995 | G22: Long An | H22: 8 | I22: 6.5 | J22: =ROUND(SUMPRODUCT($H$9:$I$9,H22:I22),1) -> 7.1 | K22: 7 | L22: 6.5 | M22: =ROUND(SUMPRODUCT($K$9:$L$9,K22:L22),1) -> 6.7 | N22: 8 | O22: 8 | P22: =ROUND(SUMPRODUCT($N$9:$O$9,N22:O22),1) -> 8 | Q22: =TRUNC(SUMPRODUCT(H22:P22,$H$10:$P$10)/SUM($H$10:$P$10),1) -> 7.3 | R22: =VLOOKUP(Q22,Sheet1!$A$1:$B$10,2,1) -> Khá | S22: =IF(AND(MIN(J22,M22,P22)>=4,Q22>=5),"Đạt","Không Đạt") -> Đạt
... A648: 638 | B648: 13D201P030 | C648: Phan Ngọc | D648: Hưng | E648: 13CĐ-TP2 | F648: 22/02/1995 | G648: Bình Thuận | H648: 6 | I648: 7.5 | J648: =ROUND(SUMPRODUCT($H$9:$I$9,H648:I648),1) -> 6.9 | K648: 6 | L648: 6 | M648: =ROUND(SUMPRODUCT($K$9:$L$9,K648:L648),1) -> 6 | N648: 9 | O648: 7 | P648: =ROUND(SUMPRODUCT($N$9:$O$9,N648:O648),1) -> 7.8 | Q648: =TRUNC(SUMPRODUCT(H648:P648,$H$10:$P$10)/SUM($H$10:$P$10),1) -> 7 | R648: =VLOOKUP(Q648,Sheet1!$A$1:$B$10,2,1) -> Khá | S648: =IF(AND(MIN(J648,M648,P648)>=4,Q648>=5),"Đạt","Không Đạt") -> Đạt
A649: 639 | B649: 13D201P050 | D649: Isanauy | E649: 13CĐ-TP2 | F649: 10/11/1995 | G649: An Giang | H649: 5 | I649: 8 | J649: =ROUND(SUMPRODUCT($H$9:$I$9,H649:I649),1) -> 6.8 | K649: 3 | L649: 9 | M649: =ROUND(SUMPRODUCT($K$9:$L$9,K649:L649),1) -> 6.6 | N649: 9 | O649: 6 | P649: =ROUND(SUMPRODUCT($N$9:$O$9,N649:O649),1) -> 7.2 | Q649: =TRUNC(SUMPRODUCT(H649:P649,$H$10:$P$10)/SUM($H$10:$P$10),1) -> 6.9 | R649: =VLOOKUP(Q649,Sheet1!$A$1:$B$10,2,1) -> Trung bình | S649: =IF(AND(MIN(J649,M649,P649)>=4,Q649>=5),"Đạt","Không Đạt") -> Đạt
A650: 640 | B650: 13D201P032 | C650: Phạm Điền | D650: Kha | E650: 13CĐ-TP2 | F650: 01/8/1994 | G650: Tiền Giang | H650: 7 | I650: 7 | J650: =ROUND(SUMPRODUCT($H$9:$I$9,H650:I650),1) -> 7 | K650: 6 | L650: 7.5 | M650: =ROUND(SUMPRODUCT($K$9:$L$9,K650:L650),1) -> 6.9 | N650: 9 | O650: 9 | P650: =ROUND(SUMPRODUCT($N$9:$O$9,N650:O650),1) -> 9 | Q650: =TRUNC(SUMPRODUCT(H650:P650,$H$10:$P$10)/SUM($H$10:$P$10),1) -> 7.7 | R650: =VLOOKUP(Q650,Sheet1!$A$1:$B$10,2,1) -> Khá | S650: =IF(AND(MIN(J650,M650,P650)>=4,Q650>=5),"Đạt","Không Đạt") -> Đạt
A651: 641 | B651: 13D201P034 | C651: Nguyễn Văn | D651: Khôi | E651: 13CĐ-TP2 | F651: 30/12/1995 | G651: Phú Yên | H651: 7 | I651: 5 | J651: =ROUND(SUMPRODUCT($H$9:$I$9,H651:I651),1) -> 5.8 | K651: 7 | L651: 5 | M651: =ROUND(SUMPRODUCT($K$9:$L$9,K651:L651),1) -> 5.8 | N651: 5 | O651: 9 | P651: =ROUND(SUMPRODUCT($N$9:$O$9,N651:O651),1) -> 7.4 | Q651: =TRUNC(SUMPRODUCT(H651:P651,$H$10:$P$10)/SUM($H$10:$P$10),1) -> 6.4 | R651: =VLOOKUP(Q651,Sheet1!$A$1:$B$10,2,1) -> Trung bình | S651: =IF(AND(MIN(J651,M651,P651)>=4,Q651>=5),"Đạt","Không Đạt") -> Đạt
A652: 642 | B652: 13D201P038 | C652: Trần Đình Anh | D652: Kiệt | E652: 13CĐ-TP2 | F652: 17/6/1995 | G652: Gia Lai | H652: 6 | I652: 7.5 | J652: =ROUND(SUMPRODUCT($H$9:$I$9,H652:I652),1) -> 6.9 | K652: 7 | L652: 6 | M652: =ROUND(SUMPRODUCT($K$9:$L$9,K652:L652),1) -> 6.4 | N652: 9 | O652: 8 | P652: =ROUND(SUMPRODUCT($N$9:$O$9,N652:O652),1) -> 8.4 | Q652: =TRUNC(SUMPRODUCT(H652:P652,$H$10:$P$10)/SUM($H$10:$P$10),1) -> 7.3 | R652: =VLOOKUP(Q652,Sheet1!$A$1:$B$10,2,1) -> Khá | S652: =IF(AND(MIN(J652,M652,P652)>=4,Q652>=5),"Đạt","Không Đạt") -> Đạt
A653: 643 | B653: 13D201P040 | C653: Lâm Xuân | D653: Ký | E653: 13CĐ-TP2 | F653: 02/10/1995 | G653: An Giang | H653: 6 | I653: 7.5 | J653: =ROUND(SUMPRODUCT($H$9:$I$9,H653:I653),1) -> 6.9 | K653: 7 | L653: 6 | M653: =ROUND(SUMPRODUCT($K$9:$L$9,K653:L653),1) -> 6.4 | N653: 7 | O653: 6 | P653: =ROUND(SUMPRODUCT($N$9:$O$9,N653:O653),1) -> 6.4 | Q653: =TRUNC(SUMPRODUCT(H653:P653,$H$10:$P$10)/SUM($H$10:$P$10),1) -> 6.5 | R653: =VLOOKUP(Q653,Sheet1!$A$1:$B$10,2,1) -> Trung bình | S653: =IF(AND(MIN(J653,M653,P653)>=4,Q653>=5),"Đạt","Không Đạt") -> Đạt
A654: 644 | B654: 13D201P117 | C654: Lại Xuân | D654: Lộc | E654: 13CĐ-TP2 | F654: 06/3/1993 | G654: Sông Bé | H654: 6 | I654: 7 | J654: =ROUND(SUMPRODUCT($H$9:$I$9,H654:I654),1) -> 6.6 | K654: 6 | L654: 6 | M654: =ROUND(SUMPRODUCT($K$9:$L$9,K654:L654),1) -> 6 | N654: 7 | O654: 7 | P654: =ROUND(SUMPRODUCT($N$9:$O$9,N654:O654),1) -> 7 | Q654: =TRUNC(SUMPRODUCT(H654:P654,$H$10:$P$10)/SUM($H$10:$P$10),1) -> 6.6 | R654: =VLOOKUP(Q654,Sheet1!$A$1:$B$10,2,1) -> Trung bình | S654: =IF(AND(MIN(J654,M654,P654)>=4,Q654>=5),"Đạt","Không Đạt") -> Đạt
A655: 645 | B655: 13D201P118 | C655: Trần Bửu | D655: Lộc | E655: 13CĐ-TP2 | F655: 02/10/1994 | G655: Bình Định | H655: 7 | I655: 6.5 | J655: =ROUND(SUMPRODUCT($H$9:$I$9,H655:I655),1) -> 6.7 | K655: 6 | L655: 5.5 | M655: =ROUND(SUMPRODUCT($K$9:$L$9,K655:L655),1) -> 5.7 | N655: 5 | O655: 5 | P655: =ROUND(SUMPRODUCT($N$9:$O$9,N655:O655),1) -> 5 | Q655: =TRUNC(SUMPRODUCT(H655:P655,$H$10:$P$10)/SUM($H$10:$P$10),1) -> 5.8 | R655: =VLOOKUP(Q655,Sheet1!$A$1:$B$10,2,1) -> Trung bình | S655: =IF(AND(MIN(J655,M655,P655)>=4,Q655>=5),"Đạt","Không Đạt") -> Đạt
A656: 646 | B656: 13D201P044 | C656: Nguyễn Thành | D656: Long | E656: 13CĐ-TP2 | F656: 05/6/1995 | G656: Quảng Ngãi | H656: 6 | I656: 5 | J656: =ROUND(SUMPRODUCT($H$9:$I$9,H656:I656),1) -> 5.4 | K656: 7 | L656: 6 | M656: =ROUND(SUMPRODUCT($K$9:$L$9,K656:L656),1) -> 6.4 | N656: 7 | O656: 6 | P656: =ROUND(SUMPRODUCT($N$9:$O$9,N656:O656),1) -> 6.4 | Q656: =TRUNC(SUMPRODUCT(H656:P656,$H$10:$P$10)/SUM($H$10:$P$10),1) -> 6 | R656: =VLOOKUP(Q656,Sheet1!$A$1:$B$10,2,1) -> Trung bình | S656: =IF(AND(MIN(J656,M656,P656)>=4,Q656>=5),"Đạt","Không Đạt") -> Đạt
A657: 647 | B657: 13D201P048 | C657: Phạm Trọng | D657: Minh | E657: 13CĐ-TP2 | F657: 03/4/1990 | G657: Nghệ An | H657: 7 | I657: 8.5 | J657: =ROUND(SUMPRODUCT($H$9:$I$9,H657:I657),1) -> 7.9 | K657: 7 | L657: 5.5 | M657: =ROUND(SUMPRODUCT($K$9:$L$9,K657:L657),1) -> 6.1 | N657: 8 | O657: 6 | P657: =ROUND(SUMPRODUCT($N$9:$O$9,N657:O657),1) -> 6.8 | Q657: =TRUNC(SUMPRODUCT(H657:P657,$H$10:$P$10)/SUM($H$10:$P$10),1) -> 7 | R657: =VLOOKUP(Q657,Sheet1!$A$1:$B$10,2,1) -> Khá | S657: =IF(AND(MIN(J657,M657,P657)>=4,Q657>=5),"Đạt","Không Đạt") -> Đạt
A658: 648 | B658: 13D201P052 | C658: Lê Phát | D658: Nguyên | E658: 13CĐ-TP2 | F658: 17/12/1992 | G658: Kiên Giang | H658: 5 | I658: 6.5 | J658: =ROUND(SUMPRODUCT($H$9:$I$9,H658:I658),1) -> 5.9 | K658: 6 | L658: 4.5 | M658: =ROUND(SUMPRODUCT($K$9:$L$9,K658:L658),1) -> 5.1 | N658: 6 | O658: 8 | P658: =ROUND(SUMPRODUCT($N$9:$O$9,N658:O658),1) -> 7.2 | Q658: =TRUNC(SUMPRODUCT(H658:P658,$H$10:$P$10)/SUM($H$10:$P$10),1) -> 6.1 | R658: =VLOOKUP(Q658,Sheet1!$A$1:$B$10,2,1) -> Trung bình | S658: =IF(AND(MIN(J658,M658,P658)>=4,Q658>=5),"Đạt","Không Đạt") -> Đạt
A659: 649 | B659: 13D201P053 | C659: Nguyễn | D659: Nhật | E659: 13CĐ-TP2 | F659: 21/9/1993 | G659: Đồng Nai | H659: 6 | I659: 7.5 | J659: =ROUND(SUMPRODUCT($H$9:$I$9,H659:I659),1) -> 6.9 | K659: 7 | L659: 7 | M659: =ROUND(SUMPRODUCT($K$9:$L$9,K659:L659),1) -> 7 | N659: 7 | O659: 9 | P659: =ROUND(SUMPRODUCT($N$9:$O$9,N659:O659),1) -> 8.2 | Q659: =TRUNC(SUMPRODUCT(H659:P659,$H$10:$P$10)/SUM($H$10:$P$10),1) -> 7.4 | R659: =VLOOKUP(Q659,Sheet1!$A$1:$B$10,2,1) -> Khá | S659: =IF(AND(MIN(J659,M659,P659)>=4,Q659>=5),"Đạt","Không Đạt") -> Đạt
A660: 650 | B660: 13D201P055 | C660: Phan Minh | D660: Nhật | E660: 13CĐ-TP2 | F660: 24/6/1995 | G660: Đăk Lăk | H660: 7 | I660: 9 | J660: =ROUND(SUMPRODUCT($H$9:$I$9,H660:I660),1) -> 8.2 | K660: 6 | L660: 6 | M660: =ROUND(SUMPRODUCT($K$9:$L$9,K660:L660),1) -> 6 | N660: 7 | O660: 9 | P660: =ROUND(SUMPRODUCT($N$9:$O$9,N660:O660),1) -> 8.2 | Q660: =TRUNC(SUMPRODUCT(H660:P660,$H$10:$P$10)/SUM($H$10:$P$10),1) -> 7.6 | R660: =VLOOKUP(Q660,Sheet1!$A$1:$B$10,2,1) -> Khá | S660: =IF(AND(MIN(J660,M660,P660)>=4,Q660>=5),"Đạt","Không Đạt") -> Đạt
A661: 651 | B661: 13D201P056 | C661: Dương Thanh | D661: Phong | E661: 13CĐ-TP2 | F661: 18/5/1994 | G661: Tp. Hồ Chí Minh | H661: 4 | I661: 6 | J661: =ROUND(SUMPRODUCT($H$9:$I$9,H661:I661),1) -> 5.2 | K661: 6 | L661: 8.5 | M661: =ROUND(SUMPRODUCT($K$9:$L$9,K661:L661),1) -> 7.5 | N661: 6 | O661: 5 | P661: =ROUND(SUMPRODUCT($N$9:$O$9,N661:O661),1) -> 5.4 | Q661: =TRUNC(SUMPRODUCT(H661:P661,$H$10:$P$10)/SUM($H$10:$P$10),1) -> 5.8 | R661: =VLOOKUP(Q661,Sheet1!$A$1:$B$10,2,1) -> Trung bình | S661: =IF(AND(MIN(J661,M661,P661)>=4,Q661>=5),"Đạt","Không Đạt") -> Đạt
... A849: 839 | B849: 13D2010083 | C849: Võ Thiện | D849: Hóa | E849: 13CĐ-CK3 | F849: 06/01/1995 | G849: Thừa Thiên - Huế | H849: 6 | I849: 5 | J849: =ROUND(SUMPRODUCT($H$9:$I$9,H849:I849),1) -> 5.4 | K849: 7 | L849: 7 | M849: =ROUND(SUMPRODUCT($K$9:$L$9,K849:L849),1) -> 7 | N849: 5 | O849: 5 | P849: =ROUND(SUMPRODUCT($N$9:$O$9,N849:O849),1) -> 5 | Q849: =TRUNC(SUMPRODUCT(H849:P849,$H$10:$P$10)/SUM($H$10:$P$10),1) -> 5.6 | R849: =VLOOKUP(Q849,Sheet1!$A$1:$B$10,2,1) -> Trung bình | S849: =IF(AND(MIN(J849,M849,P849)>=4,Q849>=5),"Đạt","Không Đạt") -> Đạt
A850: 840 | B850: 13D201P103 | C850: Huỳnh Phong | D850: Vũ | E850: 13CĐ-TP1 | F850: 01/7/1995 | G850: Tiền Giang | H850: 8 | I850: 4.5 | J850: =ROUND(SUMPRODUCT($H$9:$I$9,H850:I850),1) -> 5.9 | K850: 7 | L850: 8 | M850: =ROUND(SUMPRODUCT($K$9:$L$9,K850:L850),1) -> 7.6 | N850: 6 | O850: 9 | P850: =((N850*4+O850*6)/10) -> 7.8 | Q850: =TRUNC(SUMPRODUCT(H850:P850,$H$10:$P$10)/SUM($H$10:$P$10),1) -> 7 | R850: =VLOOKUP(Q850,Sheet1!$A$1:$B$10,2,1) -> Khá | S850: =IF(AND(MIN(J850,M850,P850)>=4,Q850>=5),"Đạt","Không Đạt") -> Đạt
A851: 841 | B851: 13D201P105 | C851: Đặng Thị Kim | D851: Xuyên | E851: 13CĐ-TP1 | F851: 07/4/1995 | G851: Tp. Hồ Chí Minh | H851: 8 | I851: 9.5 | J851: =ROUND(SUMPRODUCT($H$9:$I$9,H851:I851),1) -> 8.9 | K851: 7 | L851: 6.5 | M851: =ROUND(SUMPRODUCT($K$9:$L$9,K851:L851),1) -> 6.7 | N851: 6 | O851: 6 | P851: =((N851*4+O851*6)/10) -> 6 | Q851: =TRUNC(SUMPRODUCT(H851:P851,$H$10:$P$10)/SUM($H$10:$P$10),1) -> 7.2 | R851: =VLOOKUP(Q851,Sheet1!$A$1:$B$10,2,1) -> Khá | S851: =IF(AND(MIN(J851,M851,P851)>=4,Q851>=5),"Đạt","Không Đạt") -> Đạt
A852: 842 | B852: 11D0010126 | C852: Nguyễn Văn | D852: Hải | E852: 12CĐ-Đ1 | F852: 10/2/1992 | G852: Sông Bé | H852: 5 | I852: 6.5 | J852: =ROUND(SUMPRODUCT($H$9:$I$9,H852:I852),1) -> 5.9 | K852: 6 | L852: 7 | M852: =ROUND(SUMPRODUCT($K$9:$L$9,K852:L852),1) -> 6.6 | N852: 8 | O852: 6 | P852: =ROUND(SUMPRODUCT($N$9:$O$9,N852:O852),1) -> 6.8 | Q852: =TRUNC(SUMPRODUCT(H852:P852,$H$10:$P$10)/SUM($H$10:$P$10),1) -> 6.4 | R852: =VLOOKUP(Q852,Sheet1!$A$1:$B$10,2,1) -> Trung bình | S852: =IF(AND(MIN(J852,M852,P852)>=4,Q852>=5),"Đạt","Không Đạt") -> Đạt
A853: 843 | B853: 11D0010304 | C853: Trần Anh | D853: Văn | E853: 12CĐ-Đ2 | F853: 28/8/1993 | G853: Bình Định | H853: 6 | I853: 7 | J853: =ROUND(SUMPRODUCT($H$9:$I$9,H853:I853),1) -> 6.6 | K853: 7 | L853: 8 | M853: =ROUND(SUMPRODUCT($K$9:$L$9,K853:L853),1) -> 7.6 | N853: 5 | O853: 6 | P853: =ROUND(SUMPRODUCT($N$9:$O$9,N853:O853),1) -> 5.6 | Q853: =TRUNC(SUMPRODUCT(H853:P853,$H$10:$P$10)/SUM($H$10:$P$10),1) -> 6.4 | R853: =VLOOKUP(Q853,Sheet1!$A$1:$B$10,2,1) -> Trung bình | S853: =IF(AND(MIN(J853,M853,P853)>=4,Q853>=5),"Đạt","Không Đạt") -> Đạt
A854: 844 | B854: 11D0050123 | C854: Nguyễn Hữu | D854: Tài | E854: 11CĐ-TM2 | F854: 27/8/1993 | G854: Đồng Nai | H854: 5 | I854: 5.5 | J854: =ROUND(SUMPRODUCT($H$9:$I$9,H854:I854),1) -> 5.3 | K854: 5 | L854: 7 | M854: =ROUND(SUMPRODUCT($K$9:$L$9,K854:L854),1) -> 6.2 | N854: 7 | O854: 5 | P854: =ROUND(SUMPRODUCT($N$9:$O$9,N854:O854),1) -> 5.8 | Q854: =TRUNC(SUMPRODUCT(H854:P854,$H$10:$P$10)/SUM($H$10:$P$10),1) -> 5.7 | R854: =VLOOKUP(Q854,Sheet1!$A$1:$B$10,2,1) -> Trung bình | S854: =IF(AND(MIN(J854,M854,P854)>=4,Q854>=5),"Đạt","Không Đạt") -> Đạt
...

Sheet Sheet1
A1: 0 | B1: Kém
A2: 3.9 | B2: Kém
A3: 4 | B3: Trung bình yếu
A4: 5.4 | B4: Trung bình yếu
A5: 5.5 | B5: Trung bình
A6: 6.9 | B6: Trung bình
A7: 7 | B7: Khá
A8: 8.4 | B8: Khá
A9: 8.5 | B9: Giỏi
A10: 10 | B10: Giỏi
