Workbook

Sheet caodang
A1: BỘ LAO ĐỘNG THƯƠNG BINH VÀ XÃ HỘI | J1: CỘNG HÒA XÃ HỘI CHỦ NGHĨA ViỆT NAM
A2: TRƯỜNG ĐẠI HỌC LAO ĐỘNG - XÃ HỘI (CSII) | J2: Độc lập - Tự do - Hạnh phúc
A4: KẾT QUẢ HỌC TẬP CỦA SINH VIÊN TRƯỜNG CAO ĐẲNG KỸ THUẬT LÝ TỰ TRỌNG
A5: HỌC PHẦN GDQP-AN Thời gian học từ ngày: 22/6/2015 Đến 18/7/2015
A6: (Kèm theo quyết định số: 427/QĐ-ĐHLĐXH-ĐT ngày 03 tháng 11 năm 2015 của Giám đốc)
A8: STT | B8: MSV | C8: HỌ VÀ | D8: TÊN | E8: LỚP | F8: NĂM SINH | G8: Nơi sinh | H8: HP I | J8: TBHP | K8: HP II | M8: TBHP | N8: HP III | P8: TBHP | Q8: TBM | R8: Xếp loại | S8: Kết quả | T8: GHI CHÚ
H9: 0.4 | I9: 0.6 | K9: 0.4 | L9: 0.6 | N9: 0.4 | O9: 0.6
J10: 3 | M10: 2 | P10: 3
A11: 1 | B11: 13D301Đ001 | C11: Lương Hoàng Thuận | D11: An | E11: 13CĐ-Đ1 | F11: 07/11/1994 | G11: Tp. Hồ Chí Minh | H11: 8 | I11: 5 | J11: =ROUND(SUMPRODUCT($H$9:$I$9,H11:I11),1) -> 6.2 | K11: 7 | L11: 5.5 | M11: =ROUND(SUMPRODUCT($K$9:$L$9,K11:L11),1) -> 6.1 | N11: 8 | O11: 8 | P11: =ROUND(SUMPRODUCT($N$9:$O$9,N11:O11),1) -> 8 | Q11: =TRUNC(SUMPRODUCT(H11:P11,$H$10:$P$10)/SUM($H$10:$P$10),1) -> 6.8 | R11: =VLOOKUP(Q11,Sheet1!$A$1:$B$10,2,1) -> Trung bình | S11: =IF(AND(MIN(J11,M11,P11)>=4,Q11>=5),"Đạt","Không Đạt") -> Đạt
A12: 2 | B12: 13D301Đ004 | C12: Đặng Thế | D12: Anh | E12: 13CĐ-Đ1 | F12: 07/12/1995 | G12: Hà Tĩnh | H12: 8 | I12: 8 | J12: =ROUND(SUMPRODUCT($H$9:$I$9,H12:I12),1) -> 8 | K12: 7 | L12: 6 | M12: =ROUND(SUMPRODUCT($K$9:$L$9,K12:L12),1) -> 6.4 | N12: 7 | O12: 8 | P12: =ROUND(SUMPRODUCT($N$9:$O$9,N12:O12),1) -> 7.6 | Q12: =TRUNC(SUMPRODUCT(H12:P12,$H$10:$P$10)/SUM($H$10:$P$10),1) -> 7.4 | R12: =VLOOKUP(Q12,Sheet1!$A$1:$B$10,2,1) -> Khá | S12: =IF(AND(MIN(J12,M12,P12)>=4,Q12>=5),"Đạt","Không Đạt") -> Đạt
A13: 3 | B13: 13D301Đ149 | C13: Đỗ Huỳnh | D13: Bảo | E13: 13CĐ-Đ1 | F13: 20/7/1995 | G13: Bình Thuận | H13: 8 | I13: 7.5 | J13: =ROUND(SUMPRODUCT($H$9:$I$9,H13:I13),1) -> 7.7 | K13: 7 | L13: 5 | M13: =ROUND(SUMPRODUCT($K$9:$L$9,K13:L13),1) -> 5.8 | N13: 8 | O13: 9 | P13: =ROUND(SUMPRODUCT($N$9:$O$9,N13:O13),1) -> 8.6 | Q13: =TRUNC(SUMPRODUCT(H13:P13,$H$10:$P$10)/SUM($H$10:$P$10),1) -> 7.5 | R13: =VLOOKUP(Q13,Sheet1!$A$1:$B$10,2,1) -> Khá | S13: =IF(AND(MIN(J13,M13,P13)>=4,Q13>=5),"Đạt","Không Đạt") -> Đạt
A14: 4 | B14: 13D301Đ008 | C14: Trương Vũ | D14: Bảo | E14: 13CĐ-Đ1 | F14: 03/11/1994 | G14: Quảng Ngãi | H14: 9 | I14: 9.5 | J14: =ROUND(SUMPRODUCT($H$9:$I$9,H14:I14),1) -> 9.3 | K14: 8 | L14: 8.5 | M14: =ROUND(SUMPRODUCT($K$9:$L$9,K14:L14),1) -> 8.3 | N14: 9 | O14: 8 | P14: =ROUND(SUMPRODUCT($N$9:$O$9,N14:O14),1) -> 8.4 | Q14: =TRUNC(SUMPRODUCT(H14:P14,$H$10:$P$10)/SUM($H$10:$P$10),1) -> 8.7 | R14: =VLOOKUP(Q14,Sheet1!$A$1:$B$10,2,1) -> Giỏi | S14: =IF(AND(MIN(J14,M14,P14)>=4,Q14>=5),"Đạt","Không Đạt") -> Đạt
A15: 5 | B15: 13D301Đ009 | C15: Võ Thành | D15: Bảo | E15: 13CĐ-Đ1 | F15: 26/3/1995 | G15: Quảng Ngãi | H15: 6 | I15: 5 | J15: =ROUND(SUMPRODUCT($H$9:$I$9,H15:I15),1) -> 5.4 | K15: 7 | L15: 5.5 | M15: =ROUND(SUMPRODUCT($K$9:$L$9,K15:L15),1) -> 6.1 | N15: 8 | O15: 7 | P15: =ROUND(SUMPRODUCT($N$9:$O$9,N15:O15),1) -> 7.4 | Q15: =TRUNC(SUMPRODUCT(H15:P15,$H$10:$P$10)/SUM($H$10:$P$10),1) -> 6.3 | R15: =VLOOKUP(Q15,Sheet1!$A$1:$B$10,2,1) -> Trung bình | S15: =IF(AND(MIN(J15,M15,P15)>=4,Q15>=5),"Đạt","Không Đạt") -> Đạt
A16: 6 | B16: 13D301Đ013 | C16: Nguyễn Chí | D16: Bình | E16: 13CĐ-Đ1 | F16: 15/9/1995 | G16: Bến Tre | H16: 5 | I16: 5.5 | J16: =ROUND(SUMPRODUCT($H$9:$I$9,H16:I16),1) -> 5.3 | K16: 7 | L16: 5 | M16: =ROUND(SUMPRODUCT($K$9:$L$9,K16:L16),1) -> 5.8 | N16: 7 | O16: 5 | P16: =ROUND(SUMPRODUCT($N$9:$O$9,N16:O16),1) -> 5.8 | Q16: =TRUNC(SUMPRODUCT(H16:P16,$H$10:$P$10)/SUM($H$10:$P$10),1) -> 5.6 | R16: =VLOOKUP(Q16,Sheet1!$A$1:$B$10,2,1) -> Trung bình | S16: =IF(AND(MIN(J16,M16,P16)>=4,Q16>=5),"Đạt","Không Đạt") -> Đạt
A17: 7 | B17: 13D301Đ016 | C17: Vũ Văn | D17: Chiến | E17: 13CĐ-Đ1 | F17: 17/3/1995 | G17: Kiên Giang | H17: 4 | I17: 8 | J17: =ROUND(SUMPRODUCT($H$9:$I$9,H17:I17),1) -> 6.4 | K17: 7 | L17: 6 | M17: =ROUND(SUMPRODUCT($K$9:$L$9,K17:L17),1) -> 6.4 | N17: 8 | O17: 8 | P17: =ROUND(SUMPRODUCT($N$9:$O$9,N17:O17),1) -> 8 | Q17: =TRUNC(SUMPRODUCT(H17:P17,$H$10:$P$10)/SUM($H$10:$P$10),1) -> 7 | R17: =VLOOKUP(Q17,Sheet1!$A$1:$B$10,2,1) -> Khá | S17: =IF(AND(MIN(J17,M17,P17)>=4,Q17>=5),"Đạt","Không Đạt") -> Đạt
A18: 8 | B18: 13D301Đ017 | C18: Trần Văn | D18: Chinh | E18: 13CĐ-Đ1 | F18: 06/10/1995 | G18: Bến Tre | H18: 8 | I18: 8 | J18: =ROUND(SUMPRODUCT($H$9:$I$9,H18:I18),1) -> 8 | K18: 5 | L18: 7 | M18: =ROUND(SUMPRODUCT($K$9:$L$9,K18:L18),1) -> 6.2 | N18: 8 | O18: 5 | P18: =ROUND(SUMPRODUCT($N$9:$O$9,N18:O18),1) -> 6.2 | Q18: =TRUNC(SUMPRODUCT(H18:P18,$H$10:$P$10)/SUM($H$10:$P$10),1) -> 6.8 | R18: =VLOOKUP(Q18,Sheet1!$A$1:$B$10,2,1) -> Trung bình | S18: =IF(AND(MIN(J18,M18,P18)>=4,Q18>=5),"Đạt","Không Đạt") -> Đạt
A19: 9 | B19: 13D301Đ020 | C19: Trịnh Lê | D19: Cung | E19: 13CĐ-Đ1 | F19: 20/8/1995 | G19: Bình Định | H19: 8 | I19: 5.5 | J19: =ROUND(SUMPRODUCT($H$9:$I$9,H19:I19),1) -> 6.5 | K19: 5 | L19: 6.5 | M19: =ROUND(SUMPRODUCT($K$9:$L$9,K19:L19),1) -> 5.9 | N19: 8 | O19: 5 | P19: =ROUND(SUMPRODUCT($N$9:$O$9,N19:O19),1) -> 6.2 | Q19: =TRUNC(SUMPRODUCT(H19:P19,$H$10:$P$10)/SUM($H$10:$P$10),1) -> 6.2 | R19: =VLOOKUP(Q19,Sheet1!$A$1:$B$10,2,1) -> Trung bình | S19: =IF(AND(MIN(J19,M19,P19)>=4,Q19>=5),"Đạt","Không Đạt") -> Đạt
A20: 10 | B20: 13D301Đ021 | C20: Nguyễn Chí | D20: Cường | E20: 13CĐ-Đ1 | F20: 20/02/1995 | G20: Bình Định | H20: 8 | I20: 7.5 | J20: =ROUND(SUMPRODUCT($H$9:$I$9,H20:I20),1) -> 7.7 | K20: 7 | L20: 6.5 | M20: =ROUND(SUMPRODUCT($K$9:$L$9,K20:L20),1) -> 6.7 | N20: 8 | O20: 5 | P20: =ROUND(SUMPRODUCT($N$9:$O$9,N20:O20),1) -> 6.2 | Q20: =TRUNC(SUMPRODUCT(H20:P20,$H$10:$P$10)/SUM($H$10:$P$10),1) -> 6.8 | R20: =VLOOKUP(Q20,Sheet1!$A$1:$B$10,2,1) -> Trung bình | S20: =IF(AND(MIN(J20,M20,P20)>=4,Q20>=5),"Đạt","Không Đạt") -> Đạt
A21: 11 | B21: 13D301Đ033 | C21: Trương Văn | D21: Đạt | E21: 13CĐ-Đ1 | F21: 10/02/1994 | G21: Bình Thuận | H21: 8 | I21: 7.5 | J21: =ROUND(SUMPRODUCT($H$9:$I$9,H21:I21),1) -> 7.7 | K21: 5 | L21: 6.5 | M21: =ROUND(SUMPRODUCT($K$9:$L$9,K21:L21),1) -> 5.9 | N21: 8 | O21: 8 | P21: =ROUND(SUMPRODUCT($N$9:$O$9,N21:O21),1) -> 8 | Q21: =TRUNC(SUMPRODUCT(H21:P21,$H$10:$P$10)/SUM($H$10:$P$10),1) -> 7.3 | R21: =VLOOKUP(Q21,Sheet1!$A$1:$B$10,2,1) -> Khá | S21: =IF(AND(MIN(J21,M21,P21)>=4,Q21>=5),"Đạt","Không Đạt") -> Đạt
A22: 12 | B22: 13D301Đ037 | C22: Nguyễn Thành | D22: Đông | E22: 13CĐ-Đ1 | F22: 28/02/1995 | G22: Long An | H22: 8 | I22: 6.5 | J22: =ROUND(SUMPRODUCT($H$9:$I$9,H22:I22),1) -> 7.1 | K22: 7 | L22: 6.5 | M22: =ROUND(SUMPRODUCT($K$9:$L$9,K22:L22),1) -> 6.7 | N22: 8 | O22: 8 | P22: =ROUND(SUMPRODUCT($N$9:$O$9,N22:O22),1) -> 8 | Q22: =TRUNC(SUMPRODUCT(H22:P22,$H$10:$P$10)/SUM($H$10:$P$10),1) -> 7.3 | R22: =VLOOKUP(Q22,Sheet1!$A$1:$B$10,2,1) -> Khá | S22: =IF(AND(MIN(J22,M22,P22)>=4,Q22>=5),"Đạt","Không Đạt") -> Đạt
... A648: 638 | B648: 13D201P030 | C648: Phan Ngọc | D648: Hưng | E648: 13CĐ-TP2 | F648: 22/02/1995 | G648: Bình Thuận | H648: 6 | I648: 7.5 | J648: =ROUND(SUMPRODUCT($H$9:$I$9,H648:I648),1) -> 6.9 | K648: 6 | L648: 6 | M648: =ROUND(SUMPRODUCT($K$9:$L$9,K648:L648),1) -> 6 | N648: 9 | O648: 7 | P648: =ROUND(SUMPRODUCT($N$9:$O$9,N648:O648),1) -> 7.8 | Q648: =TRUNC(SUMPRODUCT(H648:P648,$H$10:$P$10)/SUM($H$10:$P$10),1) -> 7 | R648: =VLOOKUP(Q648,Sheet1!$A$1:$B$10,2,1) -> Khá | S648: =IF(AND(MIN(J648,M648,P648)>=4,Q648>=5),"Đạt","Không Đạt") -> Đạt
A649: 639 | B649: 13D201P050 | D649: Isanauy | E649: 13CĐ-TP2 | F649: 10/11/1995 | G649: An Giang | H649: 5 | I649: 8 | J649: =ROUND(SUMPRODUCT($H$9:$I$9,H649:I649),1) -> 6.8 | K649: 3 | L649: 9 | M649: =ROUND(SUMPRODUCT($K$9:$L$9,K649:L649),1) -> 6.6 | N649: 9 | O649: 6 | P649: =ROUND(SUMPRODUCT($N$9:$O$9,N649:O649),1) -> 7.2 | Q649: =TRUNC(SUMPRODUCT(H649:P649,$H$10:$P$10)/SUM($H$10:$P$10),1) -> 6.9 | R649: =VLOOKUP(Q649,Sheet1!$A$1:$B$10,2,1) -> Trung bình | S649: =IF(AND(MIN(J649,M649,P649)>=4,Q649>=5),"Đạt","Không Đạt") -> Đạt
A650: 640 | B650: 13D201P032 | C650: Phạm Điền | D650: Kha | E650: 13CĐ-TP2 | F650: 01/8/1994 | G650: Tiền Giang | H650: 7 | I650: 7 | J650: =ROUND(SUMPRODUCT($H$9:$I$9,H650:I650),1) -> 7 | K650: 6 | L650: 7.5 | M650: =ROUND(SUMPRODUCT($K$9:$L$9,K650:L650),1) -> 6.9 | N650: 9 | O650: 9 | P650: =ROUND(SUMPRODUCT($N$9:$O$9,N650:O650),1) -> 9 | Q650: =TRUNC(SUMPRODUCT(H650:P650,$H$10:$P$10)/SUM($H$10:$P$10),1) -> 7.7 | R650: =VLOOKUP(Q650,Sheet1!$A$1:$B$10,2,1) -> Khá | S650: =IF(AND(MIN(J650,M650,P650)>=4,Q650>=5),"Đạt","Không Đạt") -> Đạt
A651: 641 | B651: 13D201P034 | C651: Nguyễn Văn | D651: Khôi | E651: 13CĐ-TP2 | F651: 30/12/1995 | G651: Phú Yên | H651: 7 | I651: 5 | J651: =ROUND(SUMPRODUCT($H$9:$I$9,H651:I651),1) -> 5.8 | K651: 7 | L651: 5 | M651: =ROUND(SUMPRODUCT($K$9:$L$9,K651:L651),1) -> 5.8 | N651: 5 | O651: 9 | P651: =ROUND(SUMPRODUCT($N$9:$O$9,N651:O651),1) -> 7.4 | Q651: =TRUNC(SUMPRODUCT(H651:P651,$H$10:$P$10)/SUM($H$10:$P$10),1) -> 6.4 | R651: =VLOOKUP(Q651,Sheet1!$A$1:$B$10,2,1) -> Trung bình | S651: =IF(AND(MIN(J651,M651,P651)>=4,Q651>=5),"Đạt","Không Đạt") -> Đạt
A652: 642 | B652: 13D201P038 | C652: Trần Đình Anh | D652: Kiệt | E652: 13CĐ-TP2 | F652: 17/6/1995 | G652: Gia Lai | H652: 6 | I652: 7.5 | J652: =ROUND(SUMPRODUCT($H$9:$I$9,H652:I652),1) -> 6.9 | K652: 7 | L652: 6 | M652: =ROUND(SUMPRODUCT($K$9:$L$9,K652:L652),1) -> 6.4 | N652: 9 | O652: 8 | P652: =ROUND(SUMPRODUCT($N$9:$O$9,N652:O652),1) -> 8.4 | Q652: =TRUNC(SUMPRODUCT(H652:P652,$H$10:$P$10)/SUM($H$10:$P$10),1) -> 7.3 | R652: =VLOOKUP(Q652,Sheet1!$A$1:$B$10,2,1) -> Khá | S652: =IF(AND(MIN(J652,M652,P652)>=4,Q652>=5),"Đạt","Không Đạt") -> Đạt
A653: 643 | B653: 13D201P040 | C653: Lâm Xuân | D653: Ký | E653: 13CĐ-TP2 | F653: 02/10/1995 | G653: An Giang | H653: 6 | I653: 7.5 | J653: =ROUND(SUMPRODUCT($H$9:$I$9,H653:I653),1) -> 6.9 | K653: 7 | L653: 6 | M653: =ROUND(SUMPRODUCT($K$9:$L$9,K653:L653),1) -> 6.4 | N653: 7 | O653: 6 | P653: =ROUND(SUMPRODUCT($N$9:$O$9,N653:O653),1) -> 6.4 | Q653: =TRUNC(SUMPRODUCT(H653:P653,$H$10:$P$10)/SUM($H$10:$P$10),1) -> 6.5 | R653: =VLOOKUP(Q653,Sheet1!$A$1:$B$10,2,1) -> Trung bình | S653: =IF(AND(MIN(J653,M653,P653)>=4,Q653>=5),"Đạt","Không Đạt") -> Đạt
A654: 644 | B654: 13D201P117 | C654: Lại Xuân | D654: Lộc | E654: 13CĐ-TP2 | F654: 06/3/1993 | G654: Sông Bé | H654: 6 | I654: 7 | J654: =ROUND(SUMPRODUCT($H$9:$I$9,H654:I654),1) -> 6.6 | K654: 6 | L654: 6 | M654: =ROUND(SUMPRODUCT($K$9:$L$9,K654:L654),1) -> 6 | N654: 7 | O654: 7 | P654: =ROUND(SUMPRODUCT($N$9:$O$9,N654:O654),1) -> 7 | Q654: =TRUNC(SUMPRODUCT(H654:P654,$H$10:$P$10)/SUM($H$10:$P$10),1) -> 6.6 | R654: =VLOOKUP(Q654,Sheet1!$A$1:$B$10,2,1) -> Trung bình | S654: =IF(AND(MIN(J654,M654,P654)>=4,Q654>=5),"Đạt","Không Đạt") -> Đạt
A655: 645 | B655: 13D201P118 | C655: Trần Bửu | D655: Lộc | E655: 13CĐ-TP2 | F655: 02/10/1994 | G655: Bình Định | H655: 7 | I655: 6.5 | J655: =ROUND(SUMPRODUCT($H$9:$I$9,H655:I655),1) -> 6.7 | K655: 6 | L655: 5.5 | M655: =ROUND(SUMPRODUCT($K$9:$L$9,K655:L655),1) -> 5.7 | N655: 5 | O655: 5 | P655: =ROUND(SUMPRODUCT($N$9:$O$9,N655:O655),1) -> 5 | Q655: =TRUNC(SUMPRODUCT(H655:P655,$H$10:$P$10)/SUM($H$10:$P$10),1) -> 5.8 | R655: =VLOOKUP(Q655,Sheet1!$A$1:$B$10,2,1) -> Trung bình | S655: =IF(AND(MIN(J655,M655,P655)>=4,Q655>=5),"Đạt","Không Đạt") -> Đạt
A656: 646 | B656: 13D201P044 | C656: Nguyễn Thành | D656: Long | E656: 13CĐ-TP2 | F656: 05/6/1995 | G656: Quảng Ngãi | H656: 6 | I656: 5 | J656: =ROUND(SUMPRODUCT($H$9:$I$9,H656:I656),1) -> 5.4 | K656: 7 | L656: 6 | M656: =ROUND(SUMPRODUCT($K$9:$L$9,K656:L656),1) -> 6.4 | N656: 7 | O656: 6 | P656: =ROUND(SUMPRODUCT($N$9:$O$9,N656:O656),1) -> 6.4 | Q656: =TRUNC(SUMPRODUCT(H656:P656,$H$10:$P$10)/SUM($H$10:$P$10),1) -> 6 | R656: =VLOOKUP(Q656,Sheet1!$A$1:$B$10,2,1) -> Trung bình | S656: =IF(AND(MIN(J656,M656,P656)>=4,Q656>=5),"Đạt","Không Đạt") -> Đạt
A657: 647 | B657: 13D201P048 | C657: Phạm Trọng | D657: Minh | E657: 13CĐ-TP2 | F657: 03/4/1990 | G657: Nghệ An | H657: 7 | I657: 8.5 | J657: =ROUND(SUMPRODUCT($H$9:$I$9,H657:I657),1) -> 7.9 | K657: 7 | L657: 5.5 | M657: =ROUND(SUMPRODUCT($K$9:$L$9,K657:L657),1) -> 6.1 | N657: 8 | O657: 6 | P657: =ROUND(SUMPRODUCT($N$9:$O$9,N657:O657),1) -> 6.8 | Q657: =TRUNC(SUMPRODUCT(H657:P657,$H$10:$P$10)/SUM($H$10:$P$10),1) -> 7 | R657: =VLOOKUP(Q657,Sheet1!$A$1:$B$10,2,1) -> Khá | S657: =IF(AND(MIN(J657,M657,P657)>=4,Q657>=5),"Đạt","Không Đạt") -> Đạt
A658: 648 | B658: 13D201P052 | C658: Lê Phát | D658: Nguyên | E658: 13CĐ-TP2 | F658: 17/12/1992 | G658: Kiên Giang | H658: 5 | I658: 6.5 | J658: =ROUND(SUMPRODUCT($H$9:$I$9,H658:I658),1) -> 5.9 | K658: 6 | L658: 4.5 | M658: =ROUND(SUMPRODUCT($K$9:$L$9,K658:L658),1) -> 5.1 | N658: 6 | O658: 8 | P658: =ROUND(SUMPRODUCT($N$9:$O$9,N658:O658),1) -> 7.2 | Q658: =TRUNC(SUMPRODUCT(H658:P658,$H$10:$P$10)/SUM($H$10:$P$10),1) -> 6.1 | R658: =VLOOKUP(Q658,Sheet1!$A$1:$B$10,2,1) -> Trung bình | S658: =IF(AND(MIN(J658,M658,P658)>=4,Q658>=5),"Đạt","Không Đạt") -> Đạt
A659: 649 | B659: 13D201P053 | C659: Nguyễn | D659: Nhật | E659: 13CĐ-TP2 | F659: 21/9/1993 | G659: Đồng Nai | H659: 6 | I659: 7.5 | J659: =ROUND(SUMPRODUCT($H$9:$I$9,H659:I659),1) -> 6.9 | K659: 7 | L659: 7 | M659: =ROUND(SUMPRODUCT($K$9:$L$9,K659:L659),1) -> 7 | N659: 7 | O659: 9 | P659: =ROUND(SUMPRODUCT($N$9:$O$9,N659:O659),1) -> 8.2 | Q659: =TRUNC(SUMPRODUCT(H659:P659,$H$10:$P$10)/SUM($H$10:$P$10),1) -> 7.4 | R659: =VLOOKUP(Q659,Sheet1!$A$1:$B$10,2,1) -> Khá | S659: =IF(AND(MIN(J659,M659,P659)>=4,Q659>=5),"Đạt","Không Đạt") -> Đạt
A660: 650 | B660: 13D201P055 | C660: Phan Minh | D660: Nhật | E660: 13CĐ-TP2 | F660: 24/6/1995 | G660: Đăk Lăk | H660: 7 | I660: 9 | J660: =ROUND(SUMPRODUCT($H$9:$I$9,H660:I660),1) -> 8.2 | K660: 6 | L660: 6 | M660: =ROUND(SUMPRODUCT($K$9:$L$9,K660:L660),1) -> 6 | N660: 7 | O660: 9 | P660: =ROUND(SUMPRODUCT($N$9:$O$9,N660:O660),1) -> 8.2 | Q660: =TRUNC(SUMPRODUCT(H660:P660,$H$10:$P$10)/SUM($H$10:$P$10),1) -> 7.6 | R660: =VLOOKUP(Q660,Sheet1!$A$1:$B$10,2,1) -> Khá | S660: =IF(AND(MIN(J660,M660,P660)>=4,Q660>=5),"Đạt","Không Đạt") -> Đạt
A661: 651 | B661: 13D201P056 | C661: Dương Thanh | D661: Phong | E661: 13CĐ-TP2 | F661: 18/5/1994 | G661: Tp. Hồ Chí Minh | H661: 4 | I661: 6 | J661: =ROUND(SUMPRODUCT($H$9:$I$9,H661:I661),1) -> 5.2 | K661: 6 | L661: 8.5 | M661: =ROUND(SUMPRODUCT($K$9:$L$9,K661:L661),1) -> 7.5 | N661: 6 | O661: 5 | P661: =ROUND(SUMPRODUCT($N$9:$O$9,N661:O661),1) -> 5.4 | Q661: =TRUNC(SUMPRODUCT(H661:P661,$H$10:$P$10)/SUM($H$10:$P$10),1) -> 5.8 | R661: =VLOOKUP(Q661,Sheet1!$A$1:$B$10,2,1) -> Trung bình | S661: =IF(AND(MIN(J661,M661,P661)>=4,Q661>=5),"Đạt","Không Đạt") -> Đạt
... A849: 839 | B849: 13D2010083 | C849: Võ Thiện | D849: Hóa | E849: 13CĐ-CK3 | F849: 06/01/1995 | G849: Thừa Thiên - Huế | H849: 6 | I849: 5 | J849: =ROUND(SUMPRODUCT($H$9:$I$9,H849:I849),1) -> 5.4 | K849: 7 | L849: 7 | M849: =ROUND(SUMPRODUCT($K$9:$L$9,K849:L849),1) -> 7 | N849: 5 | O849: 5 | P849: =ROUND(SUMPRODUCT($N$9:$O$9,N849:O849),1) -> 5 | Q849: =TRUNC(SUMPRODUCT(H849:P849,$H$10:$P$10)/SUM($H$10:$P$10),1) -> 5.6 | R849: =VLOOKUP(Q849,Sheet1!$A$1:$B$10,2,1) -> Trung bình | S849: =IF(AND(MIN(J849,M849,P849)>=4,Q849>=5),"Đạt","Không Đạt") -> Đạt
A850: 840 | B850: 13D201P103 | C850: Huỳnh Phong | D850: Vũ | E850: 13CĐ-TP1 | F850: 01/7/1995 | G850: Tiền Giang | H850: 8 | I850: 4.5 | J850: =ROUND(SUMPRODUCT($H$9:$I$9,H850:I850),1) -> 5.9 | K850: 7 | L850: 8 | M850: =ROUND(SUMPRODUCT($K$9:$L$9,K850:L850),1) -> 7.6 | N850: 6 | O850: 9 | P850: =((N850*4+O850*6)/10) -> 7.8 | Q850: =TRUNC(SUMPRODUCT(H850:P850,$H$10:$P$10)/SUM($H$10:$P$10),1) -> 7 | R850: =VLOOKUP(Q850,Sheet1!$A$1:$B$10,2,1) -> Khá | S850: =IF(AND(MIN(J850,M850,P850)>=4,Q850>=5),"Đạt","Không Đạt") -> Đạt
A851: 841 | B851: 13D201P105 | C851: Đặng Thị Kim | D851: Xuyên | E851: 13CĐ-TP1 | F851: 07/4/1995 | G851: Tp. Hồ Chí Minh | H851: 8 | I851: 9.5 | J851: =ROUND(SUMPRODUCT($H$9:$I$9,H851:I851),1) -> 8.9 | K851: 7 | L851: 6.5 | M851: =ROUND(SUMPRODUCT($K$9:$L$9,K851:L851),1) -> 6.7 | N851: 6 | O851: 6 | P851: =((N851*4+O851*6)/10) -> 6 | Q851: =TRUNC(SUMPRODUCT(H851:P851,$H$10:$P$10)/SUM($H$10:$P$10),1) -> 7.2 | R851: =VLOOKUP(Q851,Sheet1!$A$1:$B$10,2,1) -> Khá | S851: =IF(AND(MIN(J851,M851,P851)>=4,Q851>=5),"Đạt","Không Đạt") -> Đạt
A852: 842 | B852: 11D0010126 | C852: Nguyễn Văn | D852: Hải | E852: 12CĐ-Đ1 | F852: 10/2/1992 | G852: Sông Bé | H852: 5 | I852: 6.5 | J852: =ROUND(SUMPRODUCT($H$9:$I$9,H852:I852),1) -> 5.9 | K852: 6 | L852: 7 | M852: =ROUND(SUMPRODUCT($K$9:$L$9,K852:L852),1) -> 6.6 | N852: 8 | O852: 6 | P852: =ROUND(SUMPRODUCT($N$9:$O$9,N852:O852),1) -> 6.8 | Q852: =TRUNC(SUMPRODUCT(H852:P852,$H$10:$P$10)/SUM($H$10:$P$10),1) -> 6.4 | R852: =VLOOKUP(Q852,Sheet1!$A$1:$B$10,2,1) -> Trung bình | S852: =IF(AND(MIN(J852,M852,P852)>=4,Q852>=5),"Đạt","Không Đạt") -> Đạt
A853: 843 | B853: 11D0010304 | C853: Trần Anh | D853: Văn | E853: 12CĐ-Đ2 | F853: 28/8/1993 | G853: Bình Định | H853: 6 | I853: 7 | J853: =ROUND(SUMPRODUCT($H$9:$I$9,H853:I853),1) -> 6.6 | K853: 7 | L853: 8 | M853: =ROUND(SUMPRODUCT($K$9:$L$9,K853:L853),1) -> 7.6 | N853: 5 | O853: 6 | P853: =ROUND(SUMPRODUCT($N$9:$O$9,N853:O853),1) -> 5.6 | Q853: =TRUNC(SUMPRODUCT(H853:P853,$H$10:$P$10)/SUM($H$10:$P$10),1) -> 6.4 | R853: =VLOOKUP(Q853,Sheet1!$A$1:$B$10,2,1) -> Trung bình | S853: =IF(AND(MIN(J853,M853,P853)>=4,Q853>=5),"Đạt","Không Đạt") -> Đạt
A854: 844 | B854: 11D0050123 | C854: Nguyễn Hữu | D854: Tài | E854: 11CĐ-TM2 | F854: 27/8/1993 | G854: Đồng Nai | H854: 5 | I854: 5.5 | J854: =ROUND(SUMPRODUCT($H$9:$I$9,H854:I854),1) -> 5.3 | K854: 5 | L854: 7 | M854: =ROUND(SUMPRODUCT($K$9:$L$9,K854:L854),1) -> 6.2 | N854: 7 | O854: 5 | P854: =ROUND(SUMPRODUCT($N$9:$O$9,N854:O854),1) -> 5.8 | Q854: =TRUNC(SUMPRODUCT(H854:P854,$H$10:$P$10)/SUM($H$10:$P$10),1) -> 5.7 | R854: =VLOOKUP(Q854,Sheet1!$A$1:$B$10,2,1) -> Trung bình | S854: =IF(AND(MIN(J854,M854,P854)>=4,Q854>=5),"Đạt","Không Đạt") -> Đạt
A855: 845 | B855: 13D2010030 | C855: Vũ Minh | D855: Đăng | E855: 13CĐ-CK1 | F855: 01/4/1995 | G855: Đồng Nai | H855: 8 | I855: 5.5 | J855: =ROUND(SUMPRODUCT($H$9:$I$9,H855:I855),1) -> 6.5 | K855: 6 | L855: 3 | M855: =ROUND(SUMPRODUCT($K$9:$L$9,K855:L855),1) -> 4.2 | N855: 4 | O855: 9 | P855: =ROUND(SUMPRODUCT($N$9:$O$9,N855:O855),1) -> 7 | Q855: =TRUNC(SUMPRODUCT(H855:P855,$H$10:$P$10)/SUM($H$10:$P$10),1) -> 6.1 | R855: =VLOOKUP(Q855,Sheet1!$A$1:$B$10,2,1) -> Trung bình | S855: =IF(AND(MIN(J855,M855,P855)>=4,Q855>=5),"Đạt","Không Đạt") -> Đạt
A856: 846 | B856: 13D3010130 | C856: Huỳnh Văn | D856: Thưởng | E856: 13CĐ-ĐT2 | F856: 08/8/1995 | G856: Tiền Giang | H856: 6 | I856: 3.5 | J856: =ROUND(SUMPRODUCT($H$9:$I$9,H856:I856),1) -> 4.5 | K856: 4 | L856: 7 | M856: =ROUND(SUMPRODUCT($K$9:$L$9,K856:L856),1) -> 5.8 | N856: 7 | O856: 5 | P856: =ROUND(SUMPRODUCT($N$9:$O$9,N856:O856),1) -> 5.8 | Q856: =TRUNC(SUMPRODUCT(H856:P856,$H$10:$P$10)/SUM($H$10:$P$10),1) -> 5.3 | R856: =VLOOKUP(Q856,Sheet1!$A$1:$B$10,2,1) -> Trung bình yếu | S856: =IF(AND(MIN(J856,M856,P856)>=4,Q856>=5),"Đạt","Không Đạt") -> Đạt
A857: 847 | B857: 13D3010045 | C857: Lê Thành | D857: Huy | E857: 13CĐ-ĐT1 | F857: 25/4/1995 | G857: Phú Yên | H857: 7 | I857: 4.5 | J857: =ROUND(SUMPRODUCT($H$9:$I$9,H857:I857),1) -> 5.5 | K857: 6 | L857: 7 | M857: =ROUND(SUMPRODUCT($K$9:$L$9,K857:L857),1) -> 6.6 | N857: 4 | O857: 5 | P857: =ROUND(SUMPRODUCT($N$9:$O$9,N857:O857),1) -> 4.6 | Q857: =TRUNC(SUMPRODUCT(H857:P857,$H$10:$P$10)/SUM($H$10:$P$10),1) -> 5.4 | R857: =VLOOKUP(Q857,Sheet1!$A$1:$B$10,2,1) -> Trung bình yếu | S857: =IF(AND(MIN(J857,M857,P857)>=4,Q857>=5),"Đạt","Không Đạt") -> Đạt
A858: 848 | B858: 13D2010173 | C858: Nguyễn | D858: Sáng | E858: 13CĐ-CK1 | F858: 29/7/1994 | G858: Bình Thuận | H858: 7 | I858: 7.5 | J858: =ROUND(SUMPRODUCT($H$9:$I$9,H858:I858),1) -> 7.3 | K858: 7 | L858: 6 | M858: =ROUND(SUMPRODUCT($K$9:$L$9,K858:L858),1) -> 6.4 | N858: 4 | O858: 5 | P858: =ROUND(SUMPRODUCT($N$9:$O$9,N858:O858),1) -> 4.6 | Q858: =TRUNC(SUMPRODUCT(H858:P858,$H$10:$P$10)/SUM($H$10:$P$10),1) -> 6 | R858: =VLOOKUP(Q858,Sheet1!$A$1:$B$10,2,1) -> Trung bình | S858: =IF(AND(MIN(J858,M858,P858)>=4,Q858>=5),"Đạt","Không Đạt") -> Đạt
A859: 849 | B859: 13D301Đ005 | C859: Trần Minh | D859: Quang | E859: 13CĐ-Đ2 | F859: 25/11/1995 | G859: Tp. Hồ Chí Minh | H859: 5 | I859: 4 | J859: =ROUND(SUMPRODUCT($H$9:$I$9,H859:I859),1) -> 4.4 | K859: 5 | L859: 6.5 | M859: =ROUND(SUMPRODUCT($K$9:$L$9,K859:L859),1) -> 5.9 | N859: 5 | O859: 7 | P859: =ROUND(SUMPRODUCT($N$9:$O$9,N859:O859),1) -> 6.2 | Q859: =TRUNC(SUMPRODUCT(H859:P859,$H$10:$P$10)/SUM($H$10:$P$10),1) -> 5.4 | R859: =VLOOKUP(Q859,Sheet1!$A$1:$B$10,2,1) -> Trung bình yếu | S859: =IF(AND(MIN(J859,M859,P859)>=4,Q859>=5),"Đạt","Không Đạt") -> Đạt
A860: 850 | B860: 13D3010005 | C860: Nguyễn Thành | D860: Chung | E860: 13CĐ-ĐT1 | F860: 10/02/1994 | G860: Ninh Thuận | H860: 6 | I860: 6.5 | J860: =ROUND(SUMPRODUCT($H$9:$I$9,H860:I860),1) -> 6.3 | K860: 6 | L860: 5.5 | M860: =ROUND(SUMPRODUCT($K$9:$L$9,K860:L860),1) -> 5.7 | N860: 10 | O860: 0 | P860: =((N860*4+O860*6)/10) -> 4 | Q860: =TRUNC(SUMPRODUCT(H860:P860,$H$10:$P$10)/SUM($H$10:$P$10),1) -> 5.2 | R860: =VLOOKUP(Q860,Sheet1!$A$1:$B$10,2,1) -> Trung bình yếu | S860: =IF(AND(MIN(J860,M860,P860)>=4,Q860>=5),"Đạt","Không Đạt") -> Đạt
A861: 851 | B861: 11D0030083 | C861: Cao Lê Hồng | D861: Phát | E861: 11CĐ-Ô2 | F861: 30/12/1993 | G861: Đăklăk | H861: 0 | I861: 0 | J861: =ROUND(SUMPRODUCT($H$9:$I$9,H861:I861),1) -> 0 | K861: 5 | L861: 7 | M861: =ROUND(SUMPRODUCT($K$9:$L$9,K861:L861),1) -> 6.2 | N861: 5 | O861: 10 | P861: =ROUND(SUMPRODUCT($N$9:$O$9,N861:O861),1) -> 8 | Q861: =TRUNC(SUMPRODUCT(H861:P861,$H$10:$P$10)/SUM($H$10:$P$10),1) -> 4.5 | R861: không xếp loại | S861: =IF(AND(MIN(J861,M861,P861)>=4,Q861>=5),"Đạt","Không Đạt") -> Không Đạt | T861: HL HP I
A862: 852 | B862: 12 D2010185 | C862: Nguyễn Thanh | D862: Tú | E862: 12CĐ-CK3 | F862: 16/9/1994 | G862: Bà Rịa-Vũng Tàu | H862: 8 | I862: 5.5 | J862: =ROUND(SUMPRODUCT($H$9:$I$9,H862:I862),1) -> 6.5 | K862: 7 | L862: 5.5 | M862: =ROUND(SUMPRODUCT($K$9:$L$9,K862:L862),1) -> 6.1 | N862: 0 | O862: 0 | P862: =ROUND(SUMPRODUCT($N$9:$O$9,N862:O862),1) -> 0 | Q862: =TRUNC(SUMPRODUCT(H862:P862,$H$10:$P$10)/SUM($H$10:$P$10),1) -> 3.9 | R862: không xếp loại | S862: =IF(AND(MIN(J862,M862,P862)>=4,Q862>=5),"Đạt","Không Đạt") -> Không Đạt | T862: HL HP III
A863: 853 | B863: 13D301Đ025 | C863: Nguyễn Ngọc | D863: Dũng | E863: 13CĐ-Đ1 | F863: 16/11/1993 | G863: Bình Thuận | H863: 8 | I863: 6 | J863: =ROUND(SUMPRODUCT($H$9:$I$9,H863:I863),1) -> 6.8 | K863: 5 | L863: 3 | M863: =ROUND(SUMPRODUCT($K$9:$L$9,K863:L863),1) -> 3.8 | N863: 7 | O863: 8 | P863: =ROUND(SUMPRODUCT($N$9:$O$9,N863:O863),1) -> 7.6 | Q863: =TRUNC(SUMPRODUCT(H863:P863,$H$10:$P$10)/SUM($H$10:$P$10),1) -> 6.3 | R863: không xếp loại | S863: =IF(AND(MIN(J863,M863,P863)>=4,Q863>=5),"Đạt","Không Đạt") -> Không Đạt | T863: Học lại HP II
A864: 854 | B864: 13D2060009 | C864: Nguyễn Văn | D864: Dương | E864: 13CĐ-NL1 | F864: 12/6/1994 | G864: Bình Thuận | H864: 2 | I864: 5 | J864: =ROUND(SUMPRODUCT($H$9:$I$9,H864:I864),1) -> 3.8 | K864: 7 | L864: 8.5 | M864: =ROUND(SUMPRODUCT($K$9:$L$9,K864:L864),1) -> 7.9 | N864: 6 | O864: 6 | P864: =((N864*4+O864*6)/10) -> 6 | Q864: =TRUNC(SUMPRODUCT(H864:P864,$H$10:$P$10)/SUM($H$10:$P$10),1) -> 5.6 | R864: không xếp loại | S864: =IF(AND(MIN(J864,M864,P864)>=4,Q864>=5),"Đạt","Không Đạt") -> Không Đạt | T864: HL HP I
A865: 855 | B865: 13D301Đ193 | C865: Phạm Công | D865: Chính | E865: 13CĐ-Đ1 | F865: 14/02/1994 | G865: Kiên Giang | H865: 5 | I865: 6 | J865: =ROUND(SUMPRODUCT($H$9:$I$9,H865:I865),1) -> 5.6 | K865: 5 | L865: 5.5 | M865: =ROUND(SUMPRODUCT($K$9:$L$9,K865:L865),1) -> 5.3 | N865: 0 | O865: 0 | P865: =((N865*4+O865*6)/10) -> 0 | Q865: =TRUNC(SUMPRODUCT(H865:P865,$H$10:$P$10)/SUM($H$10:$P$10),1) -> 3.4 | R865: không xếp loại | S865: =IF(AND(MIN(J865,M865,P865)>=4,Q865>=5),"Đạt","Không Đạt") -> Không Đạt | T865: Học lại HP III
A866: 856 | B866: 13D301Đ028 | C866: Hoàng Văn | D866: Duy | E866: 13CĐ-Đ1 | F866: 02/8/1991 | G866: Ninh Bình | H866: 5 | I866: 9 | J866: =ROUND(SUMPRODUCT($H$9:$I$9,H866:I866),1) -> 7.4 | K866: 5 | L866: 8 | M866: =ROUND(SUMPRODUCT($K$9:$L$9,K866:L866),1) -> 6.8 | N866: 0 | O866: 0 | P866: =((N866*4+O866*6)/10) -> 0 | Q866: =TRUNC(SUMPRODUCT(H866:P866,$H$10:$P$10)/SUM($H$10:$P$10),1) -> 4.4 | R866: không xếp loại | S866: =IF(AND(MIN(J866,M866,P866)>=4,Q866>=5),"Đạt","Không Đạt") -> Không Đạt | T866: Hoc lại HP III
A867: 857 | B867: 13D301Đ167 | C867: Phạm Lê Tuấn | D867: Tú | E867: 13CĐ-Đ2 | F867: 22/9/1993 | G867: Tp. Hồ Chí Minh | H867: 0 | I867: 0 | J867: =ROUND(SUMPRODUCT($H$9:$I$9,H867:I867),1) -> 0 | K867: 3 | L867: 0 | M867: =ROUND(SUMPRODUCT($K$9:$L$9,K867:L867),1) -> 1.2 | N867: 0 | O867: 0 | P867: =((N867*4+O867*6)/10) -> 0 | Q867: =TRUNC(SUMPRODUCT(H867:P867,$H$10:$P$10)/SUM($H$10:$P$10),1) -> 0.3 | R867: không xếp loại | S867: =IF(AND(MIN(J867,M867,P867)>=4,Q867>=5),"Đạt","Không Đạt") -> Không Đạt | T867: HL HP I, II, III
A868: 858 | B868: 13D301Đ111 | C868: Hồ Văn | D868: Quý | E868: 13CĐ-Đ3 | F868: 17/6/1994 | G868: Khánh Hòa | H868: 3 | I868: 8 | J868: =ROUND(SUMPRODUCT($H$9:$I$9,H868:I868),1) -> 6 | K868: 0 | L868: 0 | M868: =ROUND(SUMPRODUCT($K$9:$L$9,K868:L868),1) -> 0 | N868: 6 | O868: 8 | P868: =((N868*4+O868*6)/10) -> 7.2 | Q868: =TRUNC(SUMPRODUCT(H868:P868,$H$10:$P$10)/SUM($H$10:$P$10),1) -> 4.9 | R868: không xếp loại | S868: =IF(AND(MIN(J868,M868,P868)>=4,Q868>=5),"Đạt","Không Đạt") -> Không Đạt | T868: Học lại HP II
A869: 859 | B869: 13D301Đ159 | C869: Huỳnh Minh | D869: Trung | E869: 13CĐ-Đ3 | F869: 25/8/1995 | G869: Long An | H869: 3 | I869: 3 | J869: =ROUND(SUMPRODUCT($H$9:$I$9,H869:I869),1) -> 3 | K869: 0 | L869: 0 | M869: =ROUND(SUMPRODUCT($K$9:$L$9,K869:L869),1) -> 0 | N869: 7 | O869: 9 | P869: =((N869*4+O869*6)/10) -> 8.2 | Q869: =TRUNC(SUMPRODUCT(H869:P869,$H$10:$P$10)/SUM($H$10:$P$10),1) -> 4.2 | R869: không xếp loại | S869: =IF(AND(MIN(J869,M869,P869)>=4,Q869>=5),"Đạt","Không Đạt") -> Không Đạt | T869: HL HP I, II
A870: 860 | B870: 13D301Đ165 | C870: Hoàng Thanh | D870: Tú | E870: 13CĐ-Đ3 | F870: 07/7/1994 | G870: Kiên Giang | H870: 3 | I870: 4 | J870: =ROUND(SUMPRODUCT($H$9:$I$9,H870:I870),1) -> 3.6 | K870: 6 | L870: 4.5 | M870: =ROUND(SUMPRODUCT($K$9:$L$9,K870:L870),1) -> 5.1 | N870: 0 | O870: 0 | P870: =((N870*4+O870*6)/10) -> 0 | Q870: =TRUNC(SUMPRODUCT(H870:P870,$H$10:$P$10)/SUM($H$10:$P$10),1) -> 2.6 | R870: không xếp loại | S870: =IF(AND(MIN(J870,M870,P870)>=4,Q870>=5),"Đạt","Không Đạt") -> Không Đạt | T870: HL HP I, III
A871: 861 | B871: 13D301Đ171 | C871: Võ Xuân | D871: Tùng | E871: 13CĐ-Đ3 | F871: 13/7/1991 | G871: Bà Rịa - Vũng Tàu | H871: 3 | I871: 7 | J871: =ROUND(SUMPRODUCT($H$9:$I$9,H871:I871),1) -> 5.4 | K871: 0 | L871: 0 | M871: =ROUND(SUMPRODUCT($K$9:$L$9,K871:L871),1) -> 0 | N871: 7 | O871: 7 | P871: =((N871*4+O871*6)/10) -> 7 | Q871: =TRUNC(SUMPRODUCT(H871:P871,$H$10:$P$10)/SUM($H$10:$P$10),1) -> 4.6 | R871: không xếp loại | S871: =IF(AND(MIN(J871,M871,P871)>=4,Q871>=5),"Đạt","Không Đạt") -> Không Đạt | T871: HL HP II
A872: 862 | B872: 13D201P016 | C872: Đào Mạnh | D872: Duy | E872: 13CĐ-TP1 | F872: 04/10/1995 | G872: Gia Lai | H872: 3 | I872: 7 | J872: =ROUND(SUMPRODUCT($H$9:$I$9,H872:I872),1) -> 5.4 | K872: 7 | L872: 5 | M872: =ROUND(SUMPRODUCT($K$9:$L$9,K872:L872),1) -> 5.8 | N872: 4 | O872: 0 | P872: =((N872*4+O872*6)/10) -> 1.6 | Q872: =TRUNC(SUMPRODUCT(H872:P872,$H$10:$P$10)/SUM($H$10:$P$10),1) -> 4 | R872: không xếp loại | S872: =IF(AND(MIN(J872,M872,P872)>=4,Q872>=5),"Đạt","Không Đạt") -> Không Đạt | T872: HL HP III
A873: 863 | B873: 13D201P035 | C873: Viên Phan Anh | D873: Khương | E873: 13CĐ-TP1 | F873: 04/11/1995 | G873: Tp. Hồ Chí Minh | H873: 8 | I873: 3.5 | J873: =ROUND(SUMPRODUCT($H$9:$I$9,H873:I873),1) -> 5.3 | K873: 0 | L873: 0 | M873: =ROUND(SUMPRODUCT($K$9:$L$9,K873:L873),1) -> 0 | N873: 7 | O873: 9 | P873: =((N873*4+O873*6)/10) -> 8.2 | Q873: =TRUNC(SUMPRODUCT(H873:P873,$H$10:$P$10)/SUM($H$10:$P$10),1) -> 5 | R873: không xếp loại | S873: =IF(AND(MIN(J873,M873,P873)>=4,Q873>=5),"Đạt","Không Đạt") -> Không Đạt | T873: HL HP II
A874: 864 | B874: 13D201P061 | C874: Bùi Thế | D874: Quân | E874: 13CĐ-TP1 | F874: 31/5/1992 | G874: Bà Rịa - Vũng Tàu | H874: 8 | I874: 3 | J874: =ROUND(SUMPRODUCT($H$9:$I$9,H874:I874),1) -> 5 | K874: 0 | L874: 0 | M874: =ROUND(SUMPRODUCT($K$9:$L$9,K874:L874),1) -> 0 | N874: 0 | O874: 0 | P874: =((N874*4+O874*6)/10) -> 0 | Q874: =TRUNC(SUMPRODUCT(H874:P874,$H$10:$P$10)/SUM($H$10:$P$10),1) -> 1.8 | R874: không xếp loại | S874: =IF(AND(MIN(J874,M874,P874)>=4,Q874>=5),"Đạt","Không Đạt") -> Không Đạt | T874: HL HP II, III
A875: 865 | B875: 13D2050046 | C875: Lê Thanh | D875: Hải | E875: 13CĐ-Ô1 | F875: 26/3/1995 | G875: Tp. Hồ Chí Minh | H875: 3 | I875: 6.5 | J875: =ROUND(SUMPRODUCT($H$9:$I$9,H875:I875),1) -> 5.1 | K875: 0 | L875: 0 | M875: =ROUND(SUMPRODUCT($K$9:$L$9,K875:L875),1) -> 0 | N875: 6 | O875: 5 | P875: =((N875*4+O875*6)/10) -> 5.4 | Q875: =TRUNC(SUMPRODUCT(H875:P875,$H$10:$P$10)/SUM($H$10:$P$10),1) -> 3.9 | R875: không xếp loại | S875: =IF(AND(MIN(J875,M875,P875)>=4,Q875>=5),"Đạt","Không Đạt") -> Không Đạt | T875: HL HP II
... A890: 880 | B890: 13D3010155 | C890: Lâm Xuân | D890: Vũ | E890: 13CĐ-ĐT1 | F890: 01/5/1995 | G890: Hà Tĩnh | H890: 6 | I890: 5 | J890: =ROUND(SUMPRODUCT($H$9:$I$9,H890:I890),1) -> 5.4 | K890: 0 | L890: 0 | M890: =ROUND(SUMPRODUCT($K$9:$L$9,K890:L890),1) -> 0 | N890: 9 | O890: 9 | P890: =((N890*4+O890*6)/10) -> 9 | Q890: =TRUNC(SUMPRODUCT(H890:P890,$H$10:$P$10)/SUM($H$10:$P$10),1) -> 5.4 | R890: không xếp loại | S890: =IF(AND(MIN(J890,M890,P890)>=4,Q890>=5),"Đạt","Không Đạt") -> Không Đạt | T890: HL HP II
A891: 881 | B891: 12D2060092 | C891: Nguyễn Quốc | D891: Việt | E891: 13CĐ-NL1 | G891: Long An | H891: 7 | I891: 4 | J891: =ROUND(SUMPRODUCT($H$9:$I$9,H891:I891),1) -> 5.2 | K891: 7 | L891: 4.5 | M891: =ROUND(SUMPRODUCT($K$9:$L$9,K891:L891),1) -> 5.5 | N891: 3 | O891: 0 | P891: =((N891*4+O891*6)/10) -> 1.2 | Q891: =TRUNC(SUMPRODUCT(H891:P891,$H$10:$P$10)/SUM($H$10:$P$10),1) -> 3.7 | R891: không xếp loại | S891: =IF(AND(MIN(J891,M891,P891)>=4,Q891>=5),"Đạt","Không Đạt") -> Không Đạt | T891: HL HP III
B893: Lập biểu | F893: Bộ môn GDQP - AN | K893: TRƯỞNG PHÒNG ĐÀO TẠO | R893: PHÓ HIỆU TRƯỞNG/GIÁM ĐỐC
B896: (Đã ký) | F896: (Đã ký) | I896: (Đã ký) | Q896: (Đã ký)
B899: Doãn Xuân Phi | F899: Nguyễn Huy Thắng | K899: ThS. Phan Hiếu Liêm | R899: TS. Bùi Anh Thủy

Sheet Sheet1
A1: 0 | B1: Kém
A2: 3.9 | B2: Kém
A3: 4 | B3: Trung bình yếu
A4: 5.4 | B4: Trung bình yếu
A5: 5.5 | B5: Trung bình
A6: 6.9 | B6: Trung bình
A7: 7 | B7: Khá
A8: 8.4 | B8: Khá
A9: 8.5 | B9: Giỏi
A10: 10 | B10: Giỏi
